
BEGIN:VCALENDAR
VERSION:2.0
PRODID:-//145.239.37.162//NONSGML kigkonsult.se iCalcreator 2.20//
CALSCALE:GREGORIAN
METHOD:PUBLISH
X-WR-TIMEZONE:UTC
BEGIN:VEVENT
UID:event3@CCC78
DTSTAMP:20260421T155305Z
CATEGORIES:Sortie week-end
DESCRIPTION:Reconnaissance parcours de la Saint-Fiacre 2024\nCatégorie: Sor
 tie week-end\nLien: https://www.ccc78.fr/index.php?option=com_jem&view=eve
 nt&id=3:reconnaissance-parcours-de-la-saint-fiacre-2024\n
DTSTART:20240901T080000Z
DTEND:20240901T080000Z
LOCATION:Au Club\,25bis rue de la Procession\,78290 Croissy sur Seine
SUMMARY:Reconnaissance parcours de la Saint-Fiacre 2024
URL:https://www.ccc78.fr/index.php?option=com_jem&view=event&id=3:reconnais
 sance-parcours-de-la-saint-fiacre-2024
END:VEVENT
END:VCALENDAR
