
BEGIN:VCALENDAR
VERSION:2.0
PRODID:-//145.239.37.162//NONSGML kigkonsult.se iCalcreator 2.20//
CALSCALE:GREGORIAN
METHOD:PUBLISH
X-WR-TIMEZONE:UTC
BEGIN:VEVENT
UID:event39@CCC78
DTSTAMP:20260421T172500Z
CATEGORIES:Sortie week-end
DESCRIPTION:Beaujolais Nouveau\nCatégorie: Sortie week-end\nLien: https://w
 ww.ccc78.fr/index.php?option=com_jem&view=event&id=39:beaujolais-nouveau\n
DTSTART:20241124T083000Z
DTEND:20241124T120000Z
LOCATION:Au Club\,25bis rue de la Procession\,78290 Croissy sur Seine
SUMMARY:Beaujolais Nouveau
URL:https://www.ccc78.fr/index.php?option=com_jem&view=event&id=39:beaujola
 is-nouveau
END:VEVENT
END:VCALENDAR
