
BEGIN:VCALENDAR
VERSION:2.0
PRODID:-//145.239.37.162//NONSGML kigkonsult.se iCalcreator 2.20//
CALSCALE:GREGORIAN
METHOD:PUBLISH
X-WR-TIMEZONE:UTC
BEGIN:VEVENT
UID:event100@CCC78
DTSTAMP:20260421T154631Z
CATEGORIES:Organisations
DESCRIPTION:Marquage vélo + atelier petites réparations\nCatégorie: Organis
 ations\nLien: https://www.ccc78.fr/index.php?option=com_jem&view=event&id=
 100:sortie-club\n
DTSTART:20250406T090000Z
DTEND:20250406T130000Z
LOCATION:Sur place
SUMMARY:Marquage vélo + atelier petites réparations
URL:https://www.ccc78.fr/index.php?option=com_jem&view=event&id=100:sortie-
 club
END:VEVENT
END:VCALENDAR
