
BEGIN:VCALENDAR
VERSION:2.0
PRODID:-//145.239.37.162//NONSGML kigkonsult.se iCalcreator 2.20//
CALSCALE:GREGORIAN
METHOD:PUBLISH
X-WR-TIMEZONE:UTC
BEGIN:VEVENT
UID:event99@CCC78
DTSTAMP:20260419T125916Z
CATEGORIES:Sortie week-end
DESCRIPTION:Sortie Club Vexin 09\nCatégorie: Sortie week-end\nLien: https:/
 /www.ccc78.fr/index.php?option=com_jem&view=event&id=99:sortie-club\n
DTSTART:20250406T080000Z
DTEND:20250406T120000Z
LOCATION:Au Club\,25bis rue de la Procession\,78290 Croissy sur Seine
SUMMARY:Sortie Club Vexin 09
URL:https://www.ccc78.fr/index.php?option=com_jem&view=event&id=99:sortie-c
 lub
END:VEVENT
END:VCALENDAR
