
BEGIN:VCALENDAR
VERSION:2.0
PRODID:-//145.239.37.162//NONSGML kigkonsult.se iCalcreator 2.20//
CALSCALE:GREGORIAN
METHOD:PUBLISH
X-WR-TIMEZONE:UTC
BEGIN:VEVENT
UID:event92@CCC78
DTSTAMP:20260420T100630Z
CATEGORIES:Rallyes extérieurs financés
DESCRIPTION:Les Hauts de Gally (Noisy-Bailly)\nCatégorie: Rallyes extérieur
 s financés\nLien: https://www.ccc78.fr/index.php?option=com_jem&view=event
 &id=92:sortie-club\n
DTSTART:20250323T070000Z
DTEND:20250323T140000Z
LOCATION:Sur place
SUMMARY:Les Hauts de Gally (Noisy-Bailly)
URL:https://www.ccc78.fr/index.php?option=com_jem&view=event&id=92:sortie-c
 lub
END:VEVENT
END:VCALENDAR
